BEGIN:VCALENDAR
VERSION:2.0
PRODID:-//Fanyf - ECPv6.15.17.1//NONSGML v1.0//EN
CALSCALE:GREGORIAN
METHOD:PUBLISH
X-ORIGINAL-URL:https://www.fanyf.com
X-WR-CALDESC:Eventos para Fanyf
REFRESH-INTERVAL;VALUE=DURATION:PT1H
X-Robots-Tag:noindex
X-PUBLISHED-TTL:PT1H
BEGIN:VTIMEZONE
TZID:America/Bogota
BEGIN:STANDARD
TZOFFSETFROM:-0500
TZOFFSETTO:-0500
TZNAME:-05
DTSTART:20220101T000000
END:STANDARD
END:VTIMEZONE
BEGIN:VEVENT
DTSTART;TZID=America/Bogota:20230816T114000
DTEND;TZID=America/Bogota:20230816T123000
DTSTAMP:20260421T035916
CREATED:20230509T173104Z
LAST-MODIFIED:20230609T194830Z
UID:7656-1692186000-1692189000@www.fanyf.com
SUMMARY:Franquicias sin contratiempos
DESCRIPTION:Claves para evitar problemas y tomar decisiones inteligentes. \nComprende el alcance de algunos aspectos jurídicos que están o no contemplados en los contratos de franquicia\, desde una perspectiva balanceada para ambas partes\, franquiciado y franquiciante\, en algunos aspectos tales como: \n\nLa terminación y renovación del contrato.\nLa cesión de contrato.\nCláusulas referentes a la asignación territorial.\n\nJosé Luis Reyes Villamizar – Colombia \n\nAbogado de la Universidad Javeriana.\nMaster en Administración y Negocios\, The George Washington University.\nAsesor despacho de la SIC.\nAsesor de los ministros de Justicia y comercio Exterior.\nProfesor de Contratación\, Propiedad Intelectual\, Derecho Comercial; Colegio Mayor del Rosario\, Javeriana\, Sergio Arboleda y EAFIT.\nProfesor de posgrado. U del Rosario\, U. Javeriana.\nÁrbitro de la C.C de Bogotá.
URL:https://www.fanyf.com/event/franquicias-sin-contratiempos/
LOCATION:Corferias – Pabellón 19 – Salón 2
CATEGORIES:Día 1,Salón 2
ATTACH;FMTTYPE=image/jpeg:https://www.fanyf.com/wp-content/uploads/2023/05/Jose-Luis-Reyes-v2.jpg
END:VEVENT
BEGIN:VEVENT
DTSTART;TZID=America/Bogota:20230816T114000
DTEND;TZID=America/Bogota:20230816T123000
DTSTAMP:20260421T035916
CREATED:20230509T172737Z
LAST-MODIFIED:20230609T193646Z
UID:7652-1692186000-1692189000@www.fanyf.com
SUMMARY:Conforma tu dream team
DESCRIPTION:Descubre las técnicas más innovadoras para reclutar y retener el mejor equipo en tu franquicia. \n\nLos procesos dentro de la franquicia están determinados por el dueño de la marca y quien desarrollo un formato exitoso. No obstante\, el seguir las normas para los franquiciados da un valor diferencial y fundamental. Dentro de estos encontramos: la conformación del equipo para el franquiciante como un elemento clave para la expansión\, medición de los resultados totales de la cadena\, el valor de los equipos dentro de las organizaciones. \nGABRIEL GRASIUSO CASTRO – Uruguay \n\nCEO\, de SURPLUS Internacional\, Empresa de consultoría en Franquicias & Marketing.\nConsultor para Al Invest en el Uruguay\, para el desarrollo de franquicias e internacionalización de empresas.\nConsultor ANII – Agencia Nacional de Investigación e innovación\, con cooperación del BID.\nMentor ENDEAVOR en el Uruguay para el sector Franquicias.\nConsultor XENIOR – Proyectos de emprendimientos para adultos mayores.\nAnalista en Marketing y PDG (Postgrado en desarrollo gerencial).\nPresidente FIAF.
URL:https://www.fanyf.com/event/conforma-tu-dream-team/
LOCATION:Corferias – Pabellón 19 – Salón 1
CATEGORIES:Día 1,Salón 1
ATTACH;FMTTYPE=image/jpeg:https://www.fanyf.com/wp-content/uploads/2023/05/Gabriel-Grasiuso-v2.jpg
END:VEVENT
BEGIN:VEVENT
DTSTART;TZID=America/Bogota:20230816T103000
DTEND;TZID=America/Bogota:20230816T113000
DTSTAMP:20260421T035916
CREATED:20230509T172541Z
LAST-MODIFIED:20230808T185341Z
UID:7649-1692181800-1692185400@www.fanyf.com
SUMMARY:El poder de la franquicia
DESCRIPTION:Panel de expertos: Conoce los factores determinantes y las mejores prácticas para convertirte en un franquiciado exitoso. \nAlejandro Garro – Consultor Experto en Franquicias – Perú \nCon la conducción de Alejandro Garro de Perú un experto de la industria\, un experimentado grupo de franquiciados exitosos\, compartirán sus experiencias\, conocimientos y aprendizajes en la gestión de sus negocios y las formas que las han llevado a alcanzar el éxito en sus unidades de negocios. En esta sesión se comprenderá temas que incluyen: \n\nEntrenamiento y soporte del franquiciante.\nContribución de la marca a los resultados.\nConstrucción de equipos ganadores.\nServicio al cliente.\nApoyo de la red\, relaciones con otros franquiciados.\n\nPanelistas \n\nAdriana Peñaranda – Franquiciada ACIUM\nClaudia O’merea – Franquiciada Super Wow
URL:https://www.fanyf.com/event/el-poder-de-la-franquicia/
LOCATION:Corferias – Pabellón 19 – Salón 1
CATEGORIES:Día 1,Salón 1
ATTACH;FMTTYPE=image/jpeg:https://www.fanyf.com/wp-content/uploads/2023/05/Alejandro-Garro-v2.jpg
END:VEVENT
BEGIN:VEVENT
DTSTART;TZID=America/Bogota:20230816T093000
DTEND;TZID=America/Bogota:20230816T103000
DTSTAMP:20260421T035916
CREATED:20230509T172344Z
LAST-MODIFIED:20230519T161607Z
UID:7647-1692178200-1692181800@www.fanyf.com
SUMMARY:Refrigerio – Visita a la Feria Fanyf
DESCRIPTION:Los organizadores del Seminario ofrecen una bebida y un snack\, el tiempo y el espacio para que te puedas relacionar con otros y recorrer cómodamente la Feria FANYF.
URL:https://www.fanyf.com/event/refrigerio-visita-a-la-feria-fanyf/
LOCATION:Corferias – Pabellón 19
CATEGORIES:Día 1
ATTACH;FMTTYPE=image/jpeg:https://www.fanyf.com/wp-content/uploads/2023/05/Seminario-programa-refrigerio-v2.jpg
END:VEVENT
BEGIN:VEVENT
DTSTART;TZID=America/Bogota:20230816T083000
DTEND;TZID=America/Bogota:20230816T093000
DTSTAMP:20260421T035916
CREATED:20230509T171308Z
LAST-MODIFIED:20230613T193752Z
UID:7643-1692174600-1692178200@www.fanyf.com
SUMMARY:Dominando el arte de la expansión
DESCRIPTION:Una mirada a las estrategias y prácticas más exitosas en franquicias de los Estados Unidos. \nVivimos en tiempos cambiantes donde los líderes generan un constante desarrollo hacia la innovación de una manera acelerada. El progreso de la franquicia no ha sido inmune a estas fuerzas de cambio y evolución. \nJOSÉ ROBERTO FERNÁNDEZ – Guatemala  \n\nDirector general de Francorp para Centroamérica y El Caribe.\n20 años de experiencia profesional como consultor en franquicias con vasta experiencia.\nParticipación en la estructuración de más de 300 cadenas de franquicias.\nAutor y columnista sobre franquicias contribuye con artículos y entrevistas sobre el tema en América Economía\, Forbes y otras revistas de negocios de toda la región.\nFundador y actual tesorero de la Asociación Guatemalteca de Franquicias.
URL:https://www.fanyf.com/event/dominando-el-arte-de-la-expansion/
LOCATION:Corferias – Pabellón 19 – Salón 1
CATEGORIES:Día 1,Salón 1
ATTACH;FMTTYPE=image/jpeg:https://www.fanyf.com/wp-content/uploads/2023/06/Jose-Roberto-Fernandez-v2.jpg
END:VEVENT
BEGIN:VEVENT
DTSTART;TZID=America/Bogota:20230816T073000
DTEND;TZID=America/Bogota:20230816T083000
DTSTAMP:20260421T035916
CREATED:20230509T165308Z
LAST-MODIFIED:20230519T161304Z
UID:7633-1692171000-1692174600@www.fanyf.com
SUMMARY:Acreditaciones
DESCRIPTION:Con el comprobante de pago y un documento de identidad recibe tu acreditación para el Seminario Internacional FANYF 2023\, en la zona de registro del recinto de Corferias por la entrada sobre la Avenida de la Esperanza.
URL:https://www.fanyf.com/event/acreditaciones/
LOCATION:Corferias – Registro FANYF\, Ac. 24 #38-49
CATEGORIES:Día 1
ATTACH;FMTTYPE=image/jpeg:https://www.fanyf.com/wp-content/uploads/2023/05/Seminario-programa-acreditaciones-v2.jpg
END:VEVENT
END:VCALENDAR